BEGIN:VCALENDAR
VERSION:2.0
PRODID:-//wp-events-plugin.com//7.2.3.1//EN
TZID:America/New_York
X-WR-TIMEZONE:America/New_York
BEGIN:VEVENT
UID:130@emmanuellutheraneastmont.org
DTSTART;TZID=America/New_York:20240128T111500
DTEND;TZID=America/New_York:20240128T123000
DTSTAMP:20231127T165419Z
URL:https://www.emmanuellutheraneastmont.org/events/annual-congregational-
 meeting/
SUMMARY:Annual Congregational Meeting
DESCRIPTION:(snow date: Sun.\, Feb. 4)
CATEGORIES:Church Activity
END:VEVENT
BEGIN:VTIMEZONE
TZID:America/New_York
X-LIC-LOCATION:America/New_York
BEGIN:STANDARD
DTSTART:20231105T010000
TZOFFSETFROM:-0400
TZOFFSETTO:-0500
TZNAME:EST
END:STANDARD
END:VTIMEZONE
END:VCALENDAR