BEGIN:VCALENDAR
VERSION:2.0
PRODID:-//wp-events-plugin.com//7.2.3.1//EN
TZID:America/New_York
X-WR-TIMEZONE:America/New_York
BEGIN:VEVENT
UID:272@emmanuellutheraneastmont.org
DTSTART;TZID=America/New_York:20250126T111500
DTEND;TZID=America/New_York:20250126T124500
DTSTAMP:20241016T171759Z
URL:https://www.emmanuellutheraneastmont.org/events/annual-meeting-snow-da
 te-feb-2-2025/
SUMMARY:Annual Meeting (snow date Feb. 2\, 2025)
DESCRIPTION:
CATEGORIES:Church Activity
END:VEVENT
BEGIN:VTIMEZONE
TZID:America/New_York
X-LIC-LOCATION:America/New_York
BEGIN:STANDARD
DTSTART:20241103T010000
TZOFFSETFROM:-0400
TZOFFSETTO:-0500
TZNAME:EST
END:STANDARD
END:VTIMEZONE
END:VCALENDAR