BEGIN:VCALENDAR
VERSION:2.0
PRODID:-//wp-events-plugin.com//7.2.3.1//EN
TZID:America/New_York
X-WR-TIMEZONE:America/New_York
BEGIN:VEVENT
UID:191@emmanuellutheraneastmont.org
DTSTART;TZID=America/New_York:20240214T190000
DTEND;TZID=America/New_York:20240214T200000
DTSTAMP:20231228T165436Z
URL:https://www.emmanuellutheraneastmont.org/events/ash-wednesday-service-
 with-imposition-of-ashes/
SUMMARY:Ash Wednesday Service with Imposition of Ashes
DESCRIPTION:\n\nThis year we will have two services on Ash Wednesday:  a m
 id-day service at noon\, and a service with imposition of ashes at 7pm.
CATEGORIES:Church Activity
END:VEVENT
BEGIN:VTIMEZONE
TZID:America/New_York
X-LIC-LOCATION:America/New_York
BEGIN:STANDARD
DTSTART:20231105T010000
TZOFFSETFROM:-0400
TZOFFSETTO:-0500
TZNAME:EST
END:STANDARD
END:VTIMEZONE
END:VCALENDAR