BEGIN:VCALENDAR
VERSION:2.0
PRODID:-//wp-events-plugin.com//7.2.3.1//EN
TZID:America/New_York
X-WR-TIMEZONE:America/New_York
BEGIN:VEVENT
UID:501@emmanuellutheraneastmont.org
DTSTART;TZID=America/New_York:20251024T183000
DTEND;TZID=America/New_York:20251121T200000
DTSTAMP:20251022T183440Z
URL:https://www.emmanuellutheraneastmont.org/event-recurring/baptized-we-l
 ive/
SUMMARY:Baptized We Live
DESCRIPTION:New member instruction in Spanish has begun.  Baptized\, We L
 ive classes are held Friday nights beginning October 24 at Holy Trinity L
 utheran Church in Beechview.  There is a meal at 6:30 followed by classes
  for adults and for children.  Pastor Linda teaches the adult class.  Pa
 stor Sherry Hazuda teaches the children\; she is the pastor at Holy Trinit
 y.  There is no class on Friday\, October 31.  Holy Trinity is located
  at 1516 Beechview Avenue\, Pittsburgh\, PA 15216.
CATEGORIES:Church Activity
END:VEVENT
BEGIN:VTIMEZONE
TZID:America/New_York
X-LIC-LOCATION:America/New_York
BEGIN:DAYLIGHT
DTSTART:20250309T030000
TZOFFSETFROM:-0500
TZOFFSETTO:-0400
TZNAME:EDT
END:DAYLIGHT
BEGIN:STANDARD
DTSTART:20251102T010000
TZOFFSETFROM:-0400
TZOFFSETTO:-0500
TZNAME:EST
END:STANDARD
END:VTIMEZONE
END:VCALENDAR