BEGIN:VCALENDAR
VERSION:2.0
PRODID:-//wp-events-plugin.com//7.2.3.1//EN
TZID:America/New_York
X-WR-TIMEZONE:America/New_York
BEGIN:VEVENT
UID:398@emmanuellutheraneastmont.org
DTSTART;TZID=America/New_York:20250223T111500
DTEND;TZID=America/New_York:20250223T123000
DTSTAMP:20250108T185649Z
URL:https://www.emmanuellutheraneastmont.org/events/black-history-month-st
 udy-2025-02-23/
SUMMARY:Black History Month Study
DESCRIPTION:Do you know the song “Old Man River"?  Maybe you have seen t
 he movie “Show Boat”?  If so\, you have already encountered Paul Robe
 son\, the singer and actor.  Emmanuel is celebrating Black History Month 
 with a study of Paul Robeson’s life's journey during four sessions in Fe
 bruary - a very interesting journey combining his artistic gifts and his c
 ommitment to social justice.\n\nThe four sessions are scheduled for Sunday
 s in February\, beginning February 2 at 11:15 a.m. immediately after worsh
 ip.  We will read and discuss his book\, Here I Stand.  Call Emmanuel at
  412-824-4525 to let us know if you’ll attend and if you’d like us to 
 order a copy of the book for you\; the cost of the book is $10.\n\n
CATEGORIES:Community,Learning &amp; Doing
END:VEVENT
BEGIN:VTIMEZONE
TZID:America/New_York
X-LIC-LOCATION:America/New_York
BEGIN:STANDARD
DTSTART:20241103T010000
TZOFFSETFROM:-0400
TZOFFSETTO:-0500
TZNAME:EST
END:STANDARD
END:VTIMEZONE
END:VCALENDAR