BEGIN:VCALENDAR
VERSION:2.0
PRODID:-//wp-events-plugin.com//7.2.3.1//EN
TZID:America/New_York
X-WR-TIMEZONE:America/New_York
BEGIN:VEVENT
UID:74@emmanuellutheraneastmont.org
DTSTART;TZID=America/New_York:20231225T113000
DTEND;TZID=America/New_York:20231225T160000
DTSTAMP:20231127T161556Z
URL:https://www.emmanuellutheraneastmont.org/events/christmas-day-dinner-a
 t-emmanuel/
SUMMARY:Christmas Day Dinner at Emmanuel
DESCRIPTION:Pastors Linda and Dennis are hosting a Christmas Dinner in the 
 fellowship hall at Emmanuel on Christmas Day. All are invited. We will coo
 k together beginning at 11:30 am and we will eat together at 2 pm.
CATEGORIES:Community
END:VEVENT
BEGIN:VTIMEZONE
TZID:America/New_York
X-LIC-LOCATION:America/New_York
BEGIN:STANDARD
DTSTART:20231105T010000
TZOFFSETFROM:-0400
TZOFFSETTO:-0500
TZNAME:EST
END:STANDARD
END:VTIMEZONE
END:VCALENDAR