BEGIN:VCALENDAR
VERSION:2.0
PRODID:-//wp-events-plugin.com//7.2.3.1//EN
TZID:America/New_York
X-WR-TIMEZONE:America/New_York
BEGIN:VEVENT
UID:283@emmanuellutheraneastmont.org
DTSTART;TZID=America/New_York:20241225T140000
DTEND;TZID=America/New_York:20241225T153000
DTSTAMP:20241121T153651Z
URL:https://www.emmanuellutheraneastmont.org/events/christmas-day-dinner-i
 n-fellowship-hall/
SUMMARY:Christmas Day Dinner in Fellowship Hall
DESCRIPTION:
CATEGORIES:Church Activity
END:VEVENT
BEGIN:VTIMEZONE
TZID:America/New_York
X-LIC-LOCATION:America/New_York
BEGIN:STANDARD
DTSTART:20241103T010000
TZOFFSETFROM:-0400
TZOFFSETTO:-0500
TZNAME:EST
END:STANDARD
END:VTIMEZONE
END:VCALENDAR