BEGIN:VCALENDAR
VERSION:2.0
PRODID:-//wp-events-plugin.com//7.2.3.1//EN
TZID:America/New_York
X-WR-TIMEZONE:America/New_York
BEGIN:VEVENT
UID:513@emmanuellutheraneastmont.org
DTSTART;TZID=America/New_York:20251225T130000
DTEND;TZID=America/New_York:20251225T153000
DTSTAMP:20251125T184732Z
URL:https://www.emmanuellutheraneastmont.org/events/christmas-day-meal/
SUMMARY:Christmas Day Meal
DESCRIPTION:Emmanuel is hosting Christmas Day dinner in the fellowship hall
 .  Dinner prep begins at 1 pm\, feasting at 2 pm.  Emmanuel will provide
  ham\, potatoes and beverages\, you're asked to bring a salad\, vegetable\
 , or dessert.
CATEGORIES:Community
END:VEVENT
BEGIN:VTIMEZONE
TZID:America/New_York
X-LIC-LOCATION:America/New_York
BEGIN:STANDARD
DTSTART:20251102T010000
TZOFFSETFROM:-0400
TZOFFSETTO:-0500
TZNAME:EST
END:STANDARD
END:VTIMEZONE
END:VCALENDAR