BEGIN:VCALENDAR
VERSION:2.0
PRODID:-//wp-events-plugin.com//7.2.3.1//EN
TZID:America/New_York
X-WR-TIMEZONE:America/New_York
BEGIN:VEVENT
UID:508@emmanuellutheraneastmont.org
DTSTART;TZID=America/New_York:20251208T130000
DTEND;TZID=America/New_York:20251208T143000
DTSTAMP:20251124T173143Z
URL:https://www.emmanuellutheraneastmont.org/events/church-council-meeting
 -18/
SUMMARY:Church Council Meeting
DESCRIPTION:
CATEGORIES:Church Activity
END:VEVENT
BEGIN:VTIMEZONE
TZID:America/New_York
X-LIC-LOCATION:America/New_York
BEGIN:STANDARD
DTSTART:20251102T010000
TZOFFSETFROM:-0400
TZOFFSETTO:-0500
TZNAME:EST
END:STANDARD
END:VTIMEZONE
END:VCALENDAR