BEGIN:VCALENDAR
VERSION:2.0
PRODID:-//wp-events-plugin.com//7.2.3.1//EN
TZID:America/New_York
X-WR-TIMEZONE:America/New_York
BEGIN:VEVENT
UID:448@emmanuellutheraneastmont.org
DTSTART;TZID=America/New_York:20250419T140000
DTEND;TZID=America/New_York:20250419T150000
DTSTAMP:20250227T161702Z
URL:https://www.emmanuellutheraneastmont.org/events/community-easter-egg-h
 unt-2/
SUMMARY:Community Easter Egg Hunt
DESCRIPTION:All are welcome to join us for our annual Community Easter Egg 
 Hunt!  Saturday\, April 19\, from 2-3 pm on the church grounds\, rain or 
 shine.\n
CATEGORIES:Children &amp; Youth,Community
END:VEVENT
BEGIN:VTIMEZONE
TZID:America/New_York
X-LIC-LOCATION:America/New_York
BEGIN:DAYLIGHT
DTSTART:20250309T030000
TZOFFSETFROM:-0500
TZOFFSETTO:-0400
TZNAME:EDT
END:DAYLIGHT
END:VTIMEZONE
END:VCALENDAR