BEGIN:VCALENDAR
VERSION:2.0
PRODID:-//wp-events-plugin.com//7.2.3.1//EN
TZID:America/New_York
X-WR-TIMEZONE:America/New_York
BEGIN:VEVENT
UID:2309@emmanuellutheraneastmont.org
DTSTART;TZID=America/New_York:20260404T140000
DTEND;TZID=America/New_York:20260404T150000
DTSTAMP:20260318T173942Z
URL:https://www.emmanuellutheraneastmont.org/events/community-easter-egg-h
 unt-3/
SUMMARY:Community Easter Egg Hunt
DESCRIPTION:Children of all ages are invited to a Community Easter Egg Hunt
 \nEaster Saturday\, April 4th from 2pm to 3pm\nTeens are invited to be hel
 pers.  Call 412-824-4525 to volunteer.  Helpers are needed at 1pm.\n\nWe
  Invite You To Join Us For Easter Sunday Worship at 10:00 AM with Easter D
 inner following worship\n
CATEGORIES:Community
END:VEVENT
BEGIN:VTIMEZONE
TZID:America/New_York
X-LIC-LOCATION:America/New_York
BEGIN:DAYLIGHT
DTSTART:20260308T030000
TZOFFSETFROM:-0500
TZOFFSETTO:-0400
TZNAME:EDT
END:DAYLIGHT
END:VTIMEZONE
END:VCALENDAR