BEGIN:VCALENDAR
VERSION:2.0
PRODID:-//wp-events-plugin.com//7.2.3.1//EN
TZID:America/New_York
X-WR-TIMEZONE:America/New_York
BEGIN:VEVENT
UID:215@emmanuellutheraneastmont.org
DTSTART;TZID=America/New_York:20240229T110000
DTEND;TZID=America/New_York:20240229T120000
DTSTAMP:20240228T171121Z
URL:https://www.emmanuellutheraneastmont.org/events/discussion-on-the-cros
 s-and-the-lynching-tree-2024-02-29/
SUMMARY:Discussion on "The Cross and the Lynching Tree"
DESCRIPTION:Pastor Dennis is leading a weekly one-hour discussion of The Cr
 oss and the Lynching Tree by James Cone.\n\nThe Cross and the Lynching Tre
 e are the two most emotionally charged symbols in the history of the Afri
 can American community. In this powerful new work\, theologian James H. Co
 ne explores these symbols and their interconnection in the history and spi
 rituality of African Americans.  Noting their powerful evocation of suffe
 ring and liberation\, this unique book opens up vulnerably about the legac
 y of slavery and racism\, and African American identity in America today.\
 n\nBooks will be ordered for those who need a copy.  Contact Pastor Denni
 s at 412-804-1673 to request a copy or for more information.  The discuss
 ions will be every Thursday from 11 am through noon in person and on zoom.
  (Last session will be Wednesday\, March 20 at 11 am.)  For zoom use the 
 Emmanuel Class meeting ID 897 6086 7900\, or use the following link:  htt
 ps://us06web.zoom.us/j/89760867900.
CATEGORIES:Church Activity
END:VEVENT
BEGIN:VTIMEZONE
TZID:America/New_York
X-LIC-LOCATION:America/New_York
BEGIN:STANDARD
DTSTART:20231105T010000
TZOFFSETFROM:-0400
TZOFFSETTO:-0500
TZNAME:EST
END:STANDARD
END:VTIMEZONE
END:VCALENDAR