BEGIN:VCALENDAR
VERSION:2.0
PRODID:-//wp-events-plugin.com//7.2.3.1//EN
TZID:America/New_York
X-WR-TIMEZONE:America/New_York
BEGIN:VEVENT
UID:59@emmanuellutheraneastmont.org
DTSTART;TZID=America/New_York:20231217T130000
DTEND;TZID=America/New_York:20231217T150000
DTSTAMP:20231130T152953Z
URL:https://www.emmanuellutheraneastmont.org/events/e2j-from-exile-to-jesu
 s-2/
SUMMARY:E2J:  FROM EXILE TO JESUS
DESCRIPTION:E2J:  FROM EXILE TO JESUS:  what would Jesus read?\n\nWhat we
 re the Jewish religious writings in the centuries before Jesus’ birth?\n
 Participate in person\, via zoom or watch the recording on Facebook.\nThe 
 Zoom meeting ID is: 897 6086 7900.\nDecember 17 from 1:00 to 3:00 pm.\nOpt
 ional lunch at 12 noon for in-person participants.
CATEGORIES:Learning &amp; Doing
END:VEVENT
BEGIN:VTIMEZONE
TZID:America/New_York
X-LIC-LOCATION:America/New_York
BEGIN:STANDARD
DTSTART:20231105T010000
TZOFFSETFROM:-0400
TZOFFSETTO:-0500
TZNAME:EST
END:STANDARD
END:VTIMEZONE
END:VCALENDAR