BEGIN:VCALENDAR
VERSION:2.0
PRODID:-//wp-events-plugin.com//7.2.3.1//EN
TZID:America/New_York
X-WR-TIMEZONE:America/New_York
BEGIN:VEVENT
UID:58@emmanuellutheraneastmont.org
DTSTART;TZID=America/New_York:20231119T130000
DTEND;TZID=America/New_York:20231119T150000
DTSTAMP:20231116T145202Z
URL:https://www.emmanuellutheraneastmont.org/events/e2j-from-exile-to-jesu
 s/
SUMMARY:E2J:  FROM EXILE TO JESUS
DESCRIPTION:E2J:  FROM EXILE TO JESUS:  A HISTORY OF ISRAEL’S STORIES\n
 \nThis fall we focus on the in-between years\, between the Old Testament a
 nd the New Testament\, roughly between 300 BCE and the birth of Jesus.\nPa
 rticipate in person\, via zoom or watch the recording on Facebook.  The Z
 oom meeting ID is: 897 6086 7900.\nTwo more classes:  November 19 and Dec
 ember 17 from 1:00 to 3:00 pm.\nOptional lunch at 12 noon for in-person pa
 rticipants.
CATEGORIES:Learning &amp; Doing
END:VEVENT
BEGIN:VTIMEZONE
TZID:America/New_York
X-LIC-LOCATION:America/New_York
BEGIN:STANDARD
DTSTART:20231105T010000
TZOFFSETFROM:-0400
TZOFFSETTO:-0500
TZNAME:EST
END:STANDARD
END:VTIMEZONE
END:VCALENDAR