BEGIN:VCALENDAR
VERSION:2.0
PRODID:-//wp-events-plugin.com//7.2.3.1//EN
TZID:America/New_York
X-WR-TIMEZONE:America/New_York
BEGIN:VEVENT
UID:479@emmanuellutheraneastmont.org
DTSTART;TZID=America/New_York:20250823T110000
DTEND;TZID=America/New_York:20250823T200000
DTSTAMP:20250806T182025Z
URL:https://www.emmanuellutheraneastmont.org/events/emmanuel-day-at-camp-a
 gape-sat-aug-23-11-am/
SUMMARY:Emmanuel Day at Camp Agape Sat.\, Aug. 23\, 11 am
DESCRIPTION:We’ll gather at the Pavilion at 11 am for songs and prayer. 
  The cookout begins at noon\; Emmanuel will provide hamburgers and hot dog
 s\; please bring a side dish\, salad or dessert.  The afternoon is for yo
 u to explore what Camp Agape offers:  swim in the pool starting at 1:30 p
 m\, play in the playground\, hike or stroll the many paths\, or simply sit
  and relax.  Sign up on the sheet in the narthex (or call the church offi
 ce at 412-824-4525) to let us know if you’re planning to attend.  Camp 
 Agape is located at 72 Agape Road\, Hickory\, PA 15340.  Hope you can joi
 n us!\n\n
CATEGORIES:Community
END:VEVENT
BEGIN:VTIMEZONE
TZID:America/New_York
X-LIC-LOCATION:America/New_York
BEGIN:DAYLIGHT
DTSTART:20250309T030000
TZOFFSETFROM:-0500
TZOFFSETTO:-0400
TZNAME:EDT
END:DAYLIGHT
END:VTIMEZONE
END:VCALENDAR