BEGIN:VCALENDAR
VERSION:2.0
PRODID:-//wp-events-plugin.com//7.2.3.1//EN
TZID:America/New_York
X-WR-TIMEZONE:America/New_York
BEGIN:VEVENT
UID:34@emmanuellutheraneastmont.org
DTSTART;TZID=America/New_York:20230926T190000
DTEND;TZID=America/New_York:20230926T203000
DTSTAMP:20231030T143842Z
URL:https://www.emmanuellutheraneastmont.org/events/esl-class-2023-09-26/
SUMMARY:ESL Class
DESCRIPTION:Casa san Jose holds English as a Second Language Classes at Emm
 anuel\n\nTues. and Thurs. from Sept. 26 thru Dec. 14\, 7:00pm-8:30pm\n\nCo
 ntact Ruth Farrell at ruth@casasanjose.org if you would like to join the c
 lass.  Learn more at Literacy Program (casasanjose.org).\n\n
CATEGORIES:Casa san Jose
END:VEVENT
BEGIN:VTIMEZONE
TZID:America/New_York
X-LIC-LOCATION:America/New_York
BEGIN:DAYLIGHT
DTSTART:20230312T030000
TZOFFSETFROM:-0500
TZOFFSETTO:-0400
TZNAME:EDT
END:DAYLIGHT
END:VTIMEZONE
END:VCALENDAR