BEGIN:VCALENDAR
VERSION:2.0
PRODID:-//wp-events-plugin.com//7.2.3.1//EN
TZID:America/New_York
X-WR-TIMEZONE:America/New_York
BEGIN:VEVENT
UID:54@emmanuellutheraneastmont.org
DTSTART;TZID=America/New_York:20231205T190000
DTEND;TZID=America/New_York:20231205T203000
DTSTAMP:20231030T143517Z
URL:https://www.emmanuellutheraneastmont.org/events/esl-class-2023-12-05/
SUMMARY:ESL Class
DESCRIPTION:Casa san Jose holds English as a Second Language Classes at Emm
 anuel\n\nTues. and Thurs. from Sept. 26 thru Dec. 14\, 7:00pm-8:30pm\n\nCo
 ntact Ruth Farrell at ruth@casasanjose.org if you would like to join the c
 lass.  Learn more at Literacy Program (casasanjose.org).\n\n
CATEGORIES:Casa san Jose
END:VEVENT
BEGIN:VTIMEZONE
TZID:America/New_York
X-LIC-LOCATION:America/New_York
BEGIN:STANDARD
DTSTART:20231105T010000
TZOFFSETFROM:-0400
TZOFFSETTO:-0500
TZNAME:EST
END:STANDARD
END:VTIMEZONE
END:VCALENDAR