BEGIN:VCALENDAR
VERSION:2.0
PRODID:-//wp-events-plugin.com//7.2.3.1//EN
TZID:America/New_York
X-WR-TIMEZONE:America/New_York
BEGIN:VEVENT
UID:261@emmanuellutheraneastmont.org
DTSTART;TZID=America/New_York:20240908T111500
DTEND;TZID=America/New_York:20240908T111500
DTSTAMP:20240814T185114Z
URL:https://www.emmanuellutheraneastmont.org/events/gods-work-our-hands-af
 ter-worship/
SUMMARY:God's Work Our Hands after worship
DESCRIPTION:On Sunday\, Sept. 8\, congregations of the ELCA will join toget
 her for our annual day of service\, “God’s work. Our hands.”  This 
 day continues to be an opportunity to celebrate who we are as the ELCA —
  one church\, freed in Christ to serve and love our neighbor.\n\nThis year
  we also celebrate 50 years of ELCA World Hunger.  In commemoration of th
 is milestone\, many congregations are choosing projects to assist ministri
 es focused on alleviating hunger and poverty in their plans for “God’s
  work. Our hands.”\n\nEmmanuel’s project supports Meals for Friends. 
  We will give the Emmanuel kitchen a thorough cleaning on Sunday\, Septemb
 er 8.\n\n
CATEGORIES:Church Activity
END:VEVENT
BEGIN:VTIMEZONE
TZID:America/New_York
X-LIC-LOCATION:America/New_York
BEGIN:DAYLIGHT
DTSTART:20240310T030000
TZOFFSETFROM:-0500
TZOFFSETTO:-0400
TZNAME:EDT
END:DAYLIGHT
END:VTIMEZONE
END:VCALENDAR