BEGIN:VCALENDAR
VERSION:2.0
PRODID:-//wp-events-plugin.com//7.2.3.1//EN
TZID:America/New_York
X-WR-TIMEZONE:America/New_York
BEGIN:VEVENT
UID:61@emmanuellutheraneastmont.org
DTSTART;TZID=America/New_York:20231120T190000
DTEND;TZID=America/New_York:20231120T203000
DTSTAMP:20231106T170211Z
URL:https://www.emmanuellutheraneastmont.org/events/interfaith-thanksgivin
 g-service/
SUMMARY:Interfaith Thanksgiving Service
DESCRIPTION:Giving Thanks for Our Neighbors \n\nINTERFAITH THANKSGIVING SER
 VICE at Emmanuel\nHosted by the Monroeville Bahais\n\nMonday\, November 20
 \, 7 pm\nFor this national holiday\, you are invited to give thanks with n
 eighbors of many faiths.  The many houses of worship in the Monroeville a
 rea share an understanding of God as the divine giver of life and all we n
 eed.\n\n
CATEGORIES:Church Activity,Community
END:VEVENT
BEGIN:VTIMEZONE
TZID:America/New_York
X-LIC-LOCATION:America/New_York
BEGIN:STANDARD
DTSTART:20231105T010000
TZOFFSETFROM:-0400
TZOFFSETTO:-0500
TZNAME:EST
END:STANDARD
END:VTIMEZONE
END:VCALENDAR