BEGIN:VCALENDAR
VERSION:2.0
PRODID:-//wp-events-plugin.com//7.2.3.1//EN
TZID:America/New_York
X-WR-TIMEZONE:America/New_York
BEGIN:VEVENT
UID:451@emmanuellutheraneastmont.org
DTSTART;TZID=America/New_York:20250406T130000
DTEND;TZID=America/New_York:20250406T143000
DTSTAMP:20250320T133013Z
URL:https://www.emmanuellutheraneastmont.org/events/jesus-the-suffering-se
 rvant/
SUMMARY:Jesus the Suffering Servant
DESCRIPTION:Pastor Ken Ofslager will show us how Isaiah 52-53 came to descr
 ibe the New Testament Savior.  Come early\; an optional lunch will be pro
 vided at noon.  Please RSVP to 412-824-4525 for lunch.
CATEGORIES:Church Activity
END:VEVENT
BEGIN:VTIMEZONE
TZID:America/New_York
X-LIC-LOCATION:America/New_York
BEGIN:DAYLIGHT
DTSTART:20250309T030000
TZOFFSETFROM:-0500
TZOFFSETTO:-0400
TZNAME:EDT
END:DAYLIGHT
END:VTIMEZONE
END:VCALENDAR