BEGIN:VCALENDAR
VERSION:2.0
PRODID:-//wp-events-plugin.com//7.2.3.1//EN
TZID:America/New_York
X-WR-TIMEZONE:America/New_York
BEGIN:VEVENT
UID:208@emmanuellutheraneastmont.org
DTSTART;TZID=America/New_York:20240310T111500
DTEND;TZID=America/New_York:20240310T121500
DTSTAMP:20240228T170409Z
URL:https://www.emmanuellutheraneastmont.org/events/lenten-study-after-wor
 ship-2024-03-10/
SUMMARY:Lenten Study after Worship
DESCRIPTION:Join us after worship for study/discussion on The Historical Je
 sus: The Challenge of a Mediterranean Jewish Peasant.\n\n
CATEGORIES:Church Activity
END:VEVENT
BEGIN:VTIMEZONE
TZID:America/New_York
X-LIC-LOCATION:America/New_York
BEGIN:DAYLIGHT
DTSTART:20240310T030000
TZOFFSETFROM:-0500
TZOFFSETTO:-0400
TZNAME:EDT
END:DAYLIGHT
END:VTIMEZONE
END:VCALENDAR