BEGIN:VCALENDAR
VERSION:2.0
PRODID:-//wp-events-plugin.com//7.2.3.1//EN
TZID:America/New_York
X-WR-TIMEZONE:America/New_York
BEGIN:VEVENT
UID:280@emmanuellutheraneastmont.org
DTSTART;TZID=America/New_York:20241103T180000
DTEND;TZID=America/New_York:20241103T193000
DTSTAMP:20241030T183959Z
URL:https://www.emmanuellutheraneastmont.org/events/love-anyway-feast/
SUMMARY:Love Anyway Feast
DESCRIPTION:Love Anyway Feast at Emmanuel – Sunday evening\, November 3 
 – 6-8 pm \n\nYou are invited!!   Pastor Linda received (won) a grant f
 rom Lutheran Advocacy Ministry in PA to host a Love Anyway Feast.  Come a
 nd join people of different faiths\, cultures\, philosophical or political
  persuasions.  Celebrate what we share in common\, and gain understanding
  and respect for our differences.  Beverages and welcoming food are provi
 ded.  Bring an ethnic dish to share.
CATEGORIES:Community
END:VEVENT
BEGIN:VTIMEZONE
TZID:America/New_York
X-LIC-LOCATION:America/New_York
BEGIN:STANDARD
DTSTART:20241103T010000
TZOFFSETFROM:-0400
TZOFFSETTO:-0500
TZNAME:EST
END:STANDARD
END:VTIMEZONE
END:VCALENDAR