BEGIN:VCALENDAR
VERSION:2.0
PRODID:-//wp-events-plugin.com//7.2.3.1//EN
TZID:America/New_York
X-WR-TIMEZONE:America/New_York
BEGIN:VEVENT
UID:227@emmanuellutheraneastmont.org
DTSTART;TZID=America/New_York;VALUE=DATE:20240509
DTEND;TZID=America/New_York;VALUE=DATE:20240510
DTSTAMP:20240328T142654Z
URL:https://www.emmanuellutheraneastmont.org/events/lutheran-day-at-the-ca
 pitol/
SUMMARY:Lutheran Day at the Capitol
DESCRIPTION:Lutheran Day in the Capitol – May 9\, 2024\n\n\n\nJoin Luther
 an Advocacy Ministry in Pennsylvania (LAMPa) on Thursday\, May 9\, for a d
 ay of learning\, inspiration\, advocacy\, and celebration.  It’s the 45
 th anniversary of LAMPa and also the 50th anniversary celebrating the ELCA
 ’s World Hunger program.\n\nRegister by April 11 to take advantage of 
 early-bird rates.  To register and for more information on the day’s ev
 ents\, click here:\n\nhttps://www.lutheranadvocacypa.org/about/lutheran-da
 y-2024/\n\nCarpool with Pastor Linda on Wednesday\, May 8.  Overnight at 
 Wittel Farm\, a Lutheran retreat center just 20 minutes from the Capital.
CATEGORIES:Community
END:VEVENT
BEGIN:VTIMEZONE
TZID:America/New_York
X-LIC-LOCATION:America/New_York
BEGIN:DAYLIGHT
DTSTART:20240310T030000
TZOFFSETFROM:-0500
TZOFFSETTO:-0400
TZNAME:EDT
END:DAYLIGHT
END:VTIMEZONE
END:VCALENDAR