BEGIN:VCALENDAR
VERSION:2.0
PRODID:-//wp-events-plugin.com//7.2.3.1//EN
TZID:America/New_York
X-WR-TIMEZONE:America/New_York
BEGIN:VEVENT
UID:2282@emmanuellutheraneastmont.org
DTSTART;TZID=America/New_York:20260109T190000
DTEND;TZID=America/New_York:20260109T203000
DTSTAMP:20251223T144400Z
URL:https://www.emmanuellutheraneastmont.org/events/meet-with-bishop-allen
 de-at-holy-trinity-beechview/
SUMMARY:Meet with Bishop Allende at Holy Trinity Beechview
DESCRIPTION:Bishop Abraham Allende is coming on Friday\, January 9 to talk 
 about Latine Ministry in the Evangelical Lutheran Church in America.  Th
 e gathering will be at Holy Trinity Lutheran Church in Beechview at 7 p.m.
  \n\nAs Emmanuel develops The Welcoming Table\, we have been welcomed by H
 oly Trinity to hold events in the neighborhood where many Spanish speakers
  live.  Venezuela chicken and other fine food will be served.\n\nBishop 
 Allende is the bishop emeritus of the Northeastern Ohio Synod.  He grew u
 p in Puerto Rico.  He is a baseball fan and has a special fondness for Ro
 berto Clemente.
CATEGORIES:Church Activity
END:VEVENT
BEGIN:VTIMEZONE
TZID:America/New_York
X-LIC-LOCATION:America/New_York
BEGIN:STANDARD
DTSTART:20251102T010000
TZOFFSETFROM:-0400
TZOFFSETTO:-0500
TZNAME:EST
END:STANDARD
END:VTIMEZONE
END:VCALENDAR