BEGIN:VCALENDAR
VERSION:2.0
PRODID:-//wp-events-plugin.com//7.2.3.1//EN
TZID:America/New_York
X-WR-TIMEZONE:America/New_York
BEGIN:VEVENT
UID:440@emmanuellutheraneastmont.org
DTSTART;TZID=America/New_York:20250312T120000
DTEND;TZID=America/New_York:20250312T130000
DTSTAMP:20250212T192150Z
URL:https://www.emmanuellutheraneastmont.org/events/mid-week-lenten-servic
 e-2025-03-12/
SUMMARY:Mid-Week Lenten Service
DESCRIPTION:
CATEGORIES:Church Activity
END:VEVENT
BEGIN:VTIMEZONE
TZID:America/New_York
X-LIC-LOCATION:America/New_York
BEGIN:DAYLIGHT
DTSTART:20250309T030000
TZOFFSETFROM:-0500
TZOFFSETTO:-0400
TZNAME:EDT
END:DAYLIGHT
END:VTIMEZONE
END:VCALENDAR