BEGIN:VCALENDAR
VERSION:2.0
PRODID:-//wp-events-plugin.com//7.2.3.1//EN
TZID:America/New_York
X-WR-TIMEZONE:America/New_York
BEGIN:VEVENT
UID:278@emmanuellutheraneastmont.org
DTSTART;TZID=America/New_York:20241211T123000
DTEND;TZID=America/New_York:20241211T131500
DTSTAMP:20241030T174217Z
URL:https://www.emmanuellutheraneastmont.org/events/midweek-advent-service
 -with-holy-communion-2024-12-11/
SUMMARY:Midweek Advent Service with Holy Communion
DESCRIPTION:
CATEGORIES:Church Activity
END:VEVENT
BEGIN:VTIMEZONE
TZID:America/New_York
X-LIC-LOCATION:America/New_York
BEGIN:STANDARD
DTSTART:20241103T010000
TZOFFSETFROM:-0400
TZOFFSETTO:-0500
TZNAME:EST
END:STANDARD
END:VTIMEZONE
END:VCALENDAR