BEGIN:VCALENDAR
VERSION:2.0
PRODID:-//wp-events-plugin.com//7.2.3.1//EN
TZID:America/New_York
X-WR-TIMEZONE:America/New_York
BEGIN:VEVENT
UID:281@emmanuellutheraneastmont.org
DTSTART;TZID=America/New_York:20241125T190000
DTEND;TZID=America/New_York:20241125T203000
DTSTAMP:20241113T193855Z
URL:https://www.emmanuellutheraneastmont.org/events/monroeville-interfaith
 -thanksgiving-program/
SUMMARY:Monroeville Interfaith Thanksgiving Program
DESCRIPTION:Parkway Jewish Center is hosting this year’s MIM Thanksgiving
  program on November 25 at 7pm.  The program will be held at the REC333 B
 uilding on Penn Center Blvd in Penn Center (side of bldg. says “Rec 333
 ”).  Directions:  On Route 22 light by Sheetz\, turn into Penn Center 
 and go straight.  Rec33 is a low building on the left after Rite Aid and 
 medical offices.  Parking is beside the building and across the street.\n
 \n
CATEGORIES:Community
END:VEVENT
BEGIN:VTIMEZONE
TZID:America/New_York
X-LIC-LOCATION:America/New_York
BEGIN:STANDARD
DTSTART:20241103T010000
TZOFFSETFROM:-0400
TZOFFSETTO:-0500
TZNAME:EST
END:STANDARD
END:VTIMEZONE
END:VCALENDAR