BEGIN:VCALENDAR
VERSION:2.0
PRODID:-//wp-events-plugin.com//7.2.3.1//EN
TZID:America/New_York
X-WR-TIMEZONE:America/New_York
BEGIN:VEVENT
UID:64@emmanuellutheraneastmont.org
DTSTART;TZID=America/New_York:20231203T130000
DTEND;TZID=America/New_York:20231203T143000
DTSTAMP:20231113T150544Z
URL:https://www.emmanuellutheraneastmont.org/events/mystery-in-the-manger/
SUMMARY:Let's Get Ready for Christmas
DESCRIPTION:LET’S GET READY FOR CHRISTMAS!\n\nCOMMUNITY YOUTH ACTIVITY\n\
 nSunday\, December 3\, 2023\, 1-2:30 p.m.\n\nFor ages 3-10\; teen helpers 
 welcome\n\nCrafts\, stories\, games\, hot cocoa\n\n
CATEGORIES:Children &amp; Youth
END:VEVENT
BEGIN:VTIMEZONE
TZID:America/New_York
X-LIC-LOCATION:America/New_York
BEGIN:STANDARD
DTSTART:20231105T010000
TZOFFSETFROM:-0400
TZOFFSETTO:-0500
TZNAME:EST
END:STANDARD
END:VTIMEZONE
END:VCALENDAR