BEGIN:VCALENDAR
VERSION:2.0
PRODID:-//wp-events-plugin.com//7.2.3.1//EN
TZID:America/New_York
X-WR-TIMEZONE:America/New_York
BEGIN:VEVENT
UID:476@emmanuellutheraneastmont.org
DTSTART;TZID=America/New_York:20251206T143000
DTEND;TZID=America/New_York:20251206T180000
DTSTAMP:20250703T145211Z
URL:https://www.emmanuellutheraneastmont.org/events/napfe-meeting-2025-08-
 02-2025-09-06-2025-10-04-2025-11-01-2025-12-06/
SUMMARY:NAPFE meeting
DESCRIPTION:
CATEGORIES:Community
END:VEVENT
BEGIN:VTIMEZONE
TZID:America/New_York
X-LIC-LOCATION:America/New_York
BEGIN:STANDARD
DTSTART:20251102T010000
TZOFFSETFROM:-0400
TZOFFSETTO:-0500
TZNAME:EST
END:STANDARD
END:VTIMEZONE
END:VCALENDAR