BEGIN:VCALENDAR
VERSION:2.0
PRODID:-//wp-events-plugin.com//7.2.3.1//EN
TZID:America/New_York
X-WR-TIMEZONE:America/New_York
BEGIN:VEVENT
UID:473@emmanuellutheraneastmont.org
DTSTART;TZID=America/New_York:20250906T143000
DTEND;TZID=America/New_York:20250906T180000
DTSTAMP:20250703T145211Z
URL:https://www.emmanuellutheraneastmont.org/events/napfe-meeting-2025-08-
 02-2025-09-06/
SUMMARY:NAPFE meeting
DESCRIPTION:
CATEGORIES:Community
END:VEVENT
BEGIN:VTIMEZONE
TZID:America/New_York
X-LIC-LOCATION:America/New_York
BEGIN:DAYLIGHT
DTSTART:20250309T030000
TZOFFSETFROM:-0500
TZOFFSETTO:-0400
TZNAME:EDT
END:DAYLIGHT
END:VTIMEZONE
END:VCALENDAR