BEGIN:VCALENDAR
VERSION:2.0
PRODID:-//wp-events-plugin.com//7.2.3.1//EN
TZID:America/New_York
X-WR-TIMEZONE:America/New_York
BEGIN:VEVENT
UID:186@emmanuellutheraneastmont.org
DTSTART;TZID=America/New_York:20231231T111500
DTEND;TZID=America/New_York:20231231T130000
DTSTAMP:20231207T151601Z
URL:https://www.emmanuellutheraneastmont.org/events/new-years-meal-after-w
 orship/
SUMMARY:New Year's meal after worship
DESCRIPTION:After worship on Sunday\, December 31\, please stay for a tradi
 tional Western Pennsylvania New Year’s meal in the fellowship hall.
CATEGORIES:Church Activity
END:VEVENT
BEGIN:VTIMEZONE
TZID:America/New_York
X-LIC-LOCATION:America/New_York
BEGIN:STANDARD
DTSTART:20231105T010000
TZOFFSETFROM:-0400
TZOFFSETTO:-0500
TZNAME:EST
END:STANDARD
END:VTIMEZONE
END:VCALENDAR