BEGIN:VCALENDAR
VERSION:2.0
PRODID:-//wp-events-plugin.com//7.2.3.1//EN
TZID:America/New_York
X-WR-TIMEZONE:America/New_York
BEGIN:VEVENT
UID:488@emmanuellutheraneastmont.org
DTSTART;TZID=America/New_York:20260412T130000
DTEND;TZID=America/New_York:20260412T143000
DTSTAMP:20260311T180107Z
URL:https://www.emmanuellutheraneastmont.org/events/old-words-for-a-new-da
 y-2025-09-21-2025-10-19-2025-11-16-2025-12-21-2026-01-18-2026-02-15-2026-0
 3-15-2026-04-19/
SUMMARY:Old Words for a New Day
DESCRIPTION:NOTE:  Due to a schedule conflict\, the April session has been
  changed from April 19 to April 12.\n\nPastor Ken Ofslager will be teachin
 g every third Sunday afternoon from September 2025 through May 2026.  The
  first session will be Sunday\, September 21.\n\nThe series this year lift
 s up key concepts and words in the Old Testament which take on new importa
 nce in the New Testament and for us today.\n\nYou can join in person or vi
 a zoom.  We'll meet from 1:00-2:30 with an optional lunch at 12 noon.\n\n
CATEGORIES:Learning &amp; Doing
END:VEVENT
BEGIN:VTIMEZONE
TZID:America/New_York
X-LIC-LOCATION:America/New_York
BEGIN:DAYLIGHT
DTSTART:20260308T030000
TZOFFSETFROM:-0500
TZOFFSETTO:-0400
TZNAME:EDT
END:DAYLIGHT
END:VTIMEZONE
END:VCALENDAR