BEGIN:VCALENDAR
VERSION:2.0
PRODID:-//wp-events-plugin.com//7.2.3.1//EN
TZID:America/New_York
X-WR-TIMEZONE:America/New_York
BEGIN:VEVENT
UID:484@emmanuellutheraneastmont.org
DTSTART;TZID=America/New_York:20251221T130000
DTEND;TZID=America/New_York:20251221T143000
DTSTAMP:20250821T161924Z
URL:https://www.emmanuellutheraneastmont.org/events/old-words-for-a-new-da
 y-2025-09-21-2025-10-19-2025-11-16-2025-12-21/
SUMMARY:Old Words for a New Day
DESCRIPTION:Pastor Ken Ofslager will be teaching every third Sunday afterno
 on from September 2025 through May 2026.  The first session will be Sunda
 y\, September 21.\n\nThe series this year lifts up key concepts and words 
 in the Old Testament which take on new importance in the New Testament and
  for us today.\n\nYou can join in person or via zoom.  We'll meet from 1:
 00-2:30 with an optional lunch at 12 noon.\n\n
CATEGORIES:Learning &amp; Doing
END:VEVENT
BEGIN:VTIMEZONE
TZID:America/New_York
X-LIC-LOCATION:America/New_York
BEGIN:STANDARD
DTSTART:20251102T010000
TZOFFSETFROM:-0400
TZOFFSETTO:-0500
TZNAME:EST
END:STANDARD
END:VTIMEZONE
END:VCALENDAR