BEGIN:VCALENDAR
VERSION:2.0
PRODID:-//wp-events-plugin.com//7.2.3.1//EN
TZID:America/New_York
X-WR-TIMEZONE:America/New_York
BEGIN:VEVENT
UID:493@emmanuellutheraneastmont.org
DTSTART;TZID=America/New_York:20250929T190000
DTEND;TZID=America/New_York:20250929T203000
DTSTAMP:20250827T182540Z
URL:https://www.emmanuellutheraneastmont.org/events/our-neighbors-ourselve
 s-at-monroeville-library/
SUMMARY:Our Neighbors\, Ourselves at Monroeville Library
DESCRIPTION:Please join us at the Monroeville Library at 7 pm on Monday\, S
 eptember 29\, when Pastor Linda Theophilus and a representative from Casa 
 san Jose will discuss the changing climate for immigrants and citizens.  
 This free event is co-sponsored by the Monroeville Interfaith Ministerium.
 \n\n
CATEGORIES:Community
END:VEVENT
BEGIN:VTIMEZONE
TZID:America/New_York
X-LIC-LOCATION:America/New_York
BEGIN:DAYLIGHT
DTSTART:20250309T030000
TZOFFSETFROM:-0500
TZOFFSETTO:-0400
TZNAME:EDT
END:DAYLIGHT
END:VTIMEZONE
END:VCALENDAR