BEGIN:VCALENDAR
VERSION:2.0
PRODID:-//wp-events-plugin.com//7.2.3.1//EN
TZID:America/New_York
X-WR-TIMEZONE:America/New_York
BEGIN:VEVENT
UID:2305@emmanuellutheraneastmont.org
DTSTART;TZID=America/New_York:20260323T100000
DTEND;TZID=America/New_York:20260323T113000
DTSTAMP:20260218T183821Z
URL:https://www.emmanuellutheraneastmont.org/events/parish-life-committee-
 meeting-14/
SUMMARY:Parish Life Committee Meeting
DESCRIPTION:
CATEGORIES:Church Activity
END:VEVENT
BEGIN:VTIMEZONE
TZID:America/New_York
X-LIC-LOCATION:America/New_York
BEGIN:DAYLIGHT
DTSTART:20260308T030000
TZOFFSETFROM:-0500
TZOFFSETTO:-0400
TZNAME:EDT
END:DAYLIGHT
END:VTIMEZONE
END:VCALENDAR