BEGIN:VCALENDAR
VERSION:2.0
PRODID:-//wp-events-plugin.com//7.2.3.1//EN
TZID:America/New_York
X-WR-TIMEZONE:America/New_York
BEGIN:VEVENT
UID:69@emmanuellutheraneastmont.org
DTSTART;TZID=America/New_York:20231127T190000
DTEND;TZID=America/New_York:20231127T210000
DTSTAMP:20231121T154438Z
URL:https://www.emmanuellutheraneastmont.org/events/pine-ridge-presentatio
 n-st-marks-in-new-stanton/
SUMMARY:Pine Ridge Presentation - St. Mark's in New Stanton
DESCRIPTION:\n\nPastor Dennis and others from our Synod who traveled to the
  Pine Ridge Reservation this summer are presenting a talk on their experie
 nces.\n\nJoin them on Monday\, November 27\, 2023\, at 7 pm at St. Mark's 
 Lutheran Church\, 126 W Pennsylvania Ave\, New Stanton\, PA 15672.
CATEGORIES:Community
END:VEVENT
BEGIN:VTIMEZONE
TZID:America/New_York
X-LIC-LOCATION:America/New_York
BEGIN:STANDARD
DTSTART:20231105T010000
TZOFFSETFROM:-0400
TZOFFSETTO:-0500
TZNAME:EST
END:STANDARD
END:VTIMEZONE
END:VCALENDAR