BEGIN:VCALENDAR
VERSION:2.0
PRODID:-//wp-events-plugin.com//7.2.3.1//EN
TZID:America/New_York
X-WR-TIMEZONE:America/New_York
BEGIN:VEVENT
UID:284@emmanuellutheraneastmont.org
DTSTART;TZID=America/New_York:20241206T190000
DTEND;TZID=America/New_York:20241206T203000
DTSTAMP:20241121T165311Z
URL:https://www.emmanuellutheraneastmont.org/events/planning-for-spanish-w
 orship/
SUMMARY:Planning for Spanish Worship
DESCRIPTION:There is a meeting scheduled for Friday\, December 6\, at 7:00 
 pm to discuss plans for a weekly Spanish language worship service.  The m
 eeting will be conducted in Spanish at Holy Trinity Lutheran Church\, 1516
  Beechview Avenue\, Pittsburgh\, PA 15216.  Contact Pastor Theophilus for
  more information.
CATEGORIES:Community
END:VEVENT
BEGIN:VTIMEZONE
TZID:America/New_York
X-LIC-LOCATION:America/New_York
BEGIN:STANDARD
DTSTART:20241103T010000
TZOFFSETFROM:-0400
TZOFFSETTO:-0500
TZNAME:EST
END:STANDARD
END:VTIMEZONE
END:VCALENDAR