BEGIN:VCALENDAR
VERSION:2.0
PRODID:-//wp-events-plugin.com//7.2.3.1//EN
TZID:America/New_York
X-WR-TIMEZONE:America/New_York
BEGIN:VEVENT
UID:67@emmanuellutheraneastmont.org
DTSTART;TZID=America/New_York:20231119T111500
DTEND;TZID=America/New_York:20231119T121500
DTSTAMP:20231109T152030Z
URL:https://www.emmanuellutheraneastmont.org/events/prepare-advent-care-ba
 gs/
SUMMARY:Prepare Advent Care Bags
DESCRIPTION:We’re assembling GIFT bags for our shut-ins to be delivered a
 t the beginning of Advent.\n\nWe are collecting Advent devotional items\, 
 sweet things\, and practical things.  Please bring your donations to the 
 church by Friday\, November 17\; we will assemble the bags after church on
  Sunday\, November 19.  If you want suggestions for a contribution\, plea
 se call Judy Mayhood at 412-760-0986.  THANK YOU FOR YOUR DONATIONS!
CATEGORIES:Community
END:VEVENT
BEGIN:VTIMEZONE
TZID:America/New_York
X-LIC-LOCATION:America/New_York
BEGIN:STANDARD
DTSTART:20231105T010000
TZOFFSETFROM:-0400
TZOFFSETTO:-0500
TZNAME:EST
END:STANDARD
END:VTIMEZONE
END:VCALENDAR