BEGIN:VCALENDAR
VERSION:2.0
PRODID:-//wp-events-plugin.com//7.2.3.1//EN
TZID:America/New_York
X-WR-TIMEZONE:America/New_York
BEGIN:VEVENT
UID:499@emmanuellutheraneastmont.org
DTSTART;TZID=America/New_York:20251115T093000
DTEND;TZID=America/New_York:20251115T120000
DTSTAMP:20251009T141732Z
URL:https://www.emmanuellutheraneastmont.org/events/rise-against-hunger-at
 -st-johns/
SUMMARY:Rise Against Hunger at St. John's
DESCRIPTION:\nRISE AGAINST HUNGER\nA joint event for the Lutheran congregat
 ions in the Eastern suburbs\nSaturday\, November 15\, beginning at 9:30am.
 \nSt. John’s Lutheran in North Versailles is hosting this event.\n\nRise
  Against Hunger is a global movement to end hunger by empowering communiti
 es\, nourishing lives\, and responding to emergencies. It’s also a reall
 y fun time!  Join us -to provide a lasting\, real-life impact as we assem
 ble start-to-finish meals\, combining rice\, soy\, dehydrated vegetables a
 nd a packet of 20 vitamins and minerals into life-changing meal packages. 
  The Rise Against Hunger website is found here for anyone who wants to le
 arn more:  https://www.riseagainsthunger.org\n\nHOW CAN YOU PARTICIPATE?\
 nBe a worker on November 15\nAnyone from age 5 – 105 can participate.\nT
 here are jobs designed for every level of energy and physical capabilities
 .\n\nGive a contribution\nIt costs around $4\,000 total for this event\, a
 nd that generates around 10\,000 meals!  You can give your gift through E
 mmanuel.
CATEGORIES:Community
END:VEVENT
BEGIN:VTIMEZONE
TZID:America/New_York
X-LIC-LOCATION:America/New_York
BEGIN:STANDARD
DTSTART:20251102T010000
TZOFFSETFROM:-0400
TZOFFSETTO:-0500
TZNAME:EST
END:STANDARD
END:VTIMEZONE
END:VCALENDAR