BEGIN:VCALENDAR
VERSION:2.0
PRODID:-//wp-events-plugin.com//7.2.3.1//EN
TZID:America/New_York
X-WR-TIMEZONE:America/New_York
BEGIN:VEVENT
UID:189@emmanuellutheraneastmont.org
DTSTART;TZID=America/New_York:20240213T180000
DTEND;TZID=America/New_York:20240213T193000
DTSTAMP:20231228T165533Z
URL:https://www.emmanuellutheraneastmont.org/events/shrove-tuesday-pancake
 -supper/
SUMMARY:Shrove Tuesday Pancake Supper
DESCRIPTION:\n\n&nbsp\;\n\n&nbsp\;\n\n&nbsp\;\n\nJoin us for our annual Shr
 ove Tuesday Pancake Supper at 6pm on Tues.\, Feb. 13\, in the fellowship h
 all.
CATEGORIES:Church Activity
END:VEVENT
BEGIN:VTIMEZONE
TZID:America/New_York
X-LIC-LOCATION:America/New_York
BEGIN:STANDARD
DTSTART:20231105T010000
TZOFFSETFROM:-0400
TZOFFSETTO:-0500
TZNAME:EST
END:STANDARD
END:VTIMEZONE
END:VCALENDAR