BEGIN:VCALENDAR
VERSION:2.0
PRODID:-//wp-events-plugin.com//7.2.3.1//EN
TZID:America/New_York
X-WR-TIMEZONE:America/New_York
BEGIN:VEVENT
UID:491@emmanuellutheraneastmont.org
DTSTART;TZID=America/New_York:20251005T150000
DTEND;TZID=America/New_York:20251005T180000
DTSTAMP:20250904T141503Z
URL:https://www.emmanuellutheraneastmont.org/events/spaghetti-dinner-2/
SUMMARY:Spaghetti Dinner
DESCRIPTION:Mark your calendars and prepare your taste buds.  Plans are un
 derway for the annual spaghetti dinner for Emmanuel and Meals for Friends.
   The profits will be divided 50/50.  We have received a Thrivent Action
  Team grant to purchase supplies.\n\nYour help is needed for various tasks
  of preparation on Saturday\, October 4\, and to serve meals on Sunday\, O
 ctober 5.\n\nTickets are $13 for adults and $3 for children ages 3 through
  10.  This is take-out only.  Please invite your friends and family!\n\n
CATEGORIES:Community
END:VEVENT
BEGIN:VTIMEZONE
TZID:America/New_York
X-LIC-LOCATION:America/New_York
BEGIN:DAYLIGHT
DTSTART:20250309T030000
TZOFFSETFROM:-0500
TZOFFSETTO:-0400
TZNAME:EDT
END:DAYLIGHT
END:VTIMEZONE
END:VCALENDAR