BEGIN:VCALENDAR
VERSION:2.0
PRODID:-//wp-events-plugin.com//7.2.3.1//EN
TZID:America/New_York
X-WR-TIMEZONE:America/New_York
BEGIN:VEVENT
UID:259@emmanuellutheraneastmont.org
DTSTART;TZID=America/New_York:20241006T150000
DTEND;TZID=America/New_York:20241006T180000
DTSTAMP:20240912T134254Z
URL:https://www.emmanuellutheraneastmont.org/events/spaghetti-dinner/
SUMMARY:Spaghetti Dinner
DESCRIPTION:Spaghetti Dinner – October 6\, 2024\, 3-6 pm\n\nPlans for the
  annual spaghetti dinner on the first Sunday of October are underway.  Yo
 ur help and support are needed.  We are partnering with Meals for Friends
  as a takeout meal.  All of the profits will be shared equally.\n\nCan yo
 u help prepare sauce\, desserts and more on Saturday\, October 5?  Can yo
 u help welcome\, take orders and package meals on Sunday\, October 6?  Th
 ere’s a sign-up sheet on the table in the narthex.   Or contact Darlen
 e Neill at 412-825-0790.\n\nThis will be take-out only with spaghetti\, sa
 lad\, bread and dessert.\n$12 for adult meals\, $3 for children ages 3-10.
 \nInvite friends\, neighbors and acquaintances for this delicious meal!!\n
 \n
CATEGORIES:Church Activity,Meals for Friends
END:VEVENT
BEGIN:VTIMEZONE
TZID:America/New_York
X-LIC-LOCATION:America/New_York
BEGIN:DAYLIGHT
DTSTART:20240310T030000
TZOFFSETFROM:-0500
TZOFFSETTO:-0400
TZNAME:EDT
END:DAYLIGHT
END:VTIMEZONE
END:VCALENDAR