BEGIN:VCALENDAR
VERSION:2.0
PRODID:-//wp-events-plugin.com//7.2.3.1//EN
TZID:America/New_York
X-WR-TIMEZONE:America/New_York
BEGIN:VEVENT
UID:200@emmanuellutheraneastmont.org
DTSTART;TZID=America/New_York:20240303T111500
DTEND;TZID=America/New_York:20240303T113000
DTSTAMP:20240131T170406Z
URL:https://www.emmanuellutheraneastmont.org/events/special-congregational
 -meeting/
SUMMARY:Special Congregational Meeting
DESCRIPTION:As discussed at the annual meeting\, there will be a special co
 ngregational meeting after the service on Sunday\, March 3\, to approve ch
 anges allowing electronic meetings for council and congregation meetings. 
 This will be a very short meeting.
CATEGORIES:Church Activity
END:VEVENT
BEGIN:VTIMEZONE
TZID:America/New_York
X-LIC-LOCATION:America/New_York
BEGIN:STANDARD
DTSTART:20231105T010000
TZOFFSETFROM:-0400
TZOFFSETTO:-0500
TZNAME:EST
END:STANDARD
END:VTIMEZONE
END:VCALENDAR