BEGIN:VCALENDAR
VERSION:2.0
PRODID:-//wp-events-plugin.com//7.2.3.1//EN
TZID:America/New_York
X-WR-TIMEZONE:America/New_York
BEGIN:VEVENT
UID:187@emmanuellutheraneastmont.org
DTSTART;TZID=America/New_York:20240205T140000
DTEND;TZID=America/New_York:20240205T153000
DTSTAMP:20240124T183053Z
URL:https://www.emmanuellutheraneastmont.org/events/stewardship-study-2/
SUMMARY:Stewardship Study
DESCRIPTION:Pastor Dennis is offering a Stewardship Study based on the boo
 k “Giving to God” by Mark A. Powell.  We’ll be meeting at 2 pm at t
 he Bob Evans in Irwin.  Interested?  Call him at 412-804-1673.
CATEGORIES:Church Activity
END:VEVENT
BEGIN:VTIMEZONE
TZID:America/New_York
X-LIC-LOCATION:America/New_York
BEGIN:STANDARD
DTSTART:20231105T010000
TZOFFSETFROM:-0400
TZOFFSETTO:-0500
TZNAME:EST
END:STANDARD
END:VTIMEZONE
END:VCALENDAR