BEGIN:VCALENDAR
VERSION:2.0
PRODID:-//wp-events-plugin.com//7.2.3.1//EN
TZID:America/New_York
X-WR-TIMEZONE:America/New_York
BEGIN:VEVENT
UID:223@emmanuellutheraneastmont.org
DTSTART;TZID=America/New_York:20240401T140000
DTEND;TZID=America/New_York:20240401T153000
DTSTAMP:20240328T141507Z
URL:https://www.emmanuellutheraneastmont.org/events/stewardship-study-2024
 -04-01/
SUMMARY:Stewardship Study - CANCELED FOR APRIL 1
DESCRIPTION:The session for Monday\, April 1\, has been canceled.\n\n“Giv
 ing to God” Stewardship Study based on the book by Mark A. Powell.  The
 se sessions are held on the first Monday of the month at the Bob Evans in 
 Irwin.  The next session is Monday\, April 1\, at 2:00 p.m.  There will 
 be sessions in May and June.  There may be a new book and new study in th
 e fall.  Call Pastor Dennis at 412-804-1673 if you’re interested in joi
 ning.
CATEGORIES:Church Activity
END:VEVENT
BEGIN:VTIMEZONE
TZID:America/New_York
X-LIC-LOCATION:America/New_York
BEGIN:DAYLIGHT
DTSTART:20240310T030000
TZOFFSETFROM:-0500
TZOFFSETTO:-0400
TZNAME:EDT
END:DAYLIGHT
END:VTIMEZONE
END:VCALENDAR