BEGIN:VCALENDAR
VERSION:2.0
PRODID:-//wp-events-plugin.com//7.2.3.1//EN
TZID:America/New_York
X-WR-TIMEZONE:America/New_York
BEGIN:VEVENT
UID:184@emmanuellutheraneastmont.org
DTSTART;TZID=America/New_York:20240108T130000
DTEND;TZID=America/New_York:20240108T143000
DTSTAMP:20240103T161104Z
URL:https://www.emmanuellutheraneastmont.org/events/stewardship-study/
SUMMARY:Stewardship Study
DESCRIPTION:Pastor Dennis is offering a Stewardship Study based on the book
  “Giving to God” by Mark A. Powell.  We’ll be meeting at 2 pm at a 
 location to be determined.  Interested?  Call him at 412-804-1673.
CATEGORIES:Church Activity
END:VEVENT
BEGIN:VTIMEZONE
TZID:America/New_York
X-LIC-LOCATION:America/New_York
BEGIN:STANDARD
DTSTART:20231105T010000
TZOFFSETFROM:-0400
TZOFFSETTO:-0500
TZNAME:EST
END:STANDARD
END:VTIMEZONE
END:VCALENDAR