BEGIN:VCALENDAR
VERSION:2.0
PRODID:-//wp-events-plugin.com//7.2.3.1//EN
TZID:America/New_York
X-WR-TIMEZONE:America/New_York
BEGIN:VEVENT
UID:497@emmanuellutheraneastmont.org
DTSTART;TZID=America/New_York:20251127T140000
DTEND;TZID=America/New_York:20251127T170000
DTSTAMP:20251002T140420Z
URL:https://www.emmanuellutheraneastmont.org/events/thanksgiving-day-meal/
SUMMARY:Thanksgiving Day Meal
DESCRIPTION:Don't be alone on Thanksgiving.  Join us in the fellowship hal
 l at 2pm for a Thanksgiving feast.  RSVP to eastmontelc@hotmail.com or 41
 2-824-4525.  Please join us\; all are welcome!\n\n
CATEGORIES:Community
END:VEVENT
BEGIN:VTIMEZONE
TZID:America/New_York
X-LIC-LOCATION:America/New_York
BEGIN:STANDARD
DTSTART:20251102T010000
TZOFFSETFROM:-0400
TZOFFSETTO:-0500
TZNAME:EST
END:STANDARD
END:VTIMEZONE
END:VCALENDAR