BEGIN:VCALENDAR
VERSION:2.0
PRODID:-//wp-events-plugin.com//7.2.3.1//EN
TZID:America/New_York
X-WR-TIMEZONE:America/New_York
BEGIN:VEVENT
UID:500@emmanuellutheraneastmont.org
DTSTART;TZID=America/New_York:20251124T190000
DTEND;TZID=America/New_York:20251124T203000
DTSTAMP:20251119T160134Z
URL:https://www.emmanuellutheraneastmont.org/events/thanksgiving-program-p
 resented-by-mim/
SUMMARY:Thanksgiving Program presented by MIM
DESCRIPTION:The Monroeville Interfaith Ministerium will present its annual 
 Thanksgiving program on Monday\, November 24\, at 7:00 pm at the REC333 Bu
 ilding in Penn Center.  Join with people of all faiths as we give thanks 
 for our neighbors and for the many blessings we have received.\n\n
CATEGORIES:Community
END:VEVENT
BEGIN:VTIMEZONE
TZID:America/New_York
X-LIC-LOCATION:America/New_York
BEGIN:STANDARD
DTSTART:20251102T010000
TZOFFSETFROM:-0400
TZOFFSETTO:-0500
TZNAME:EST
END:STANDARD
END:VTIMEZONE
END:VCALENDAR