BEGIN:VCALENDAR
VERSION:2.0
PRODID:-//wp-events-plugin.com//7.2.3.1//EN
TZID:America/New_York
X-WR-TIMEZONE:America/New_York
BEGIN:VEVENT
UID:265@emmanuellutheraneastmont.org
DTSTART;TZID=America/New_York:20241013T111500
DTEND;TZID=America/New_York:20241013T123000
DTSTAMP:20240829T160855Z
URL:https://www.emmanuellutheraneastmont.org/events/uls-series-on-moral-an
 d-social-issues-3/
SUMMARY:ULS Series on Moral and Social Issues
DESCRIPTION:What does our church teach about complex moral and social issue
 s in our world today?\nUnited Lutheran Seminary offers a series which we a
 re doing at Emmanuel.\n\nYou can choose the time and location that best su
 its your schedule:\n\n 	At Emmanuel with other people on Sunday after wors
 hip.\n 	At home on zoom on Tuesday evenings for the premier joining other 
 Lutherans.\n 	A replay at home on your computer or phone – you choose th
 e time.\n\nThe topics and the dates at Emmanuel are:\n\n 	Introduction to 
 Social Teachings – September 15\n 	Corporate Social Responsibility – S
 eptember 22\n 	Abortion – October 13\n 	Sexism and Justice – October 2
 0\n 	ELCA Earth’s Climate Crisis Study Guide – October 27\n 	Freed in 
 Christ: Race\, Ethnicity\, and Culture – November 3\n\n Please contact 
 Pastor Linda for the link to see the webinar “live” when it premiers o
 r to get the link to watch on your own time in your own space.  The “li
 ve” zoom presentations are on Tuesday evenings beginning August 27 (ever
 y other week).\n\nThe social statements are also available to read.  We h
 ave many available in the church building and all are available on the web
 site www.elca.org.
CATEGORIES:Church Activity
END:VEVENT
BEGIN:VTIMEZONE
TZID:America/New_York
X-LIC-LOCATION:America/New_York
BEGIN:DAYLIGHT
DTSTART:20240310T030000
TZOFFSETFROM:-0500
TZOFFSETTO:-0400
TZNAME:EDT
END:DAYLIGHT
END:VTIMEZONE
END:VCALENDAR