BEGIN:VCALENDAR
VERSION:2.0
PRODID:-//wp-events-plugin.com//7.2.3.1//EN
TZID:America/New_York
X-WR-TIMEZONE:America/New_York
BEGIN:VEVENT
UID:463@emmanuellutheraneastmont.org
DTSTART;TZID=America/New_York:20250718T093000
DTEND;TZID=America/New_York:20250718T120000
DTSTAMP:20250707T154308Z
URL:https://www.emmanuellutheraneastmont.org/events/vacation-bible-school-
 2025-07-18/
SUMMARY:Vacation Bible School
DESCRIPTION:Monday-Friday\, July 14-18\, from 9:30 am to noon\nJESUS:  BAB
 Y\, SAVIOR\, GOD\nJoin us for worship\, music\, games\, crafts and snacks 
 each day\, organized around one Bible story that reveals who Jesus is.  A
 ges 3 through completed grade 6 (adult companion needed for 3-year-olds)\;
  teen helpers eagerly welcomed.  Call the church office at 412-824-4525 t
 o register\; registration deadline is July 6\, and the registration fee is
  only $5.00 per family.\n
CATEGORIES:Children &amp; Youth
END:VEVENT
BEGIN:VTIMEZONE
TZID:America/New_York
X-LIC-LOCATION:America/New_York
BEGIN:DAYLIGHT
DTSTART:20250309T030000
TZOFFSETFROM:-0500
TZOFFSETTO:-0400
TZNAME:EDT
END:DAYLIGHT
END:VTIMEZONE
END:VCALENDAR